Package: Melissa Version: 1.16.0 Command: /Library/Frameworks/R.framework/Resources/bin/R CMD build --keep-empty-dirs --no-resave-data Melissa StartedAt: 2023-10-15 19:19:32 -0400 (Sun, 15 Oct 2023) EndedAt: 2023-10-15 19:28:22 -0400 (Sun, 15 Oct 2023) EllapsedTime: 529.7 seconds RetCode: 0 Status: OK PackageFile: Melissa_1.16.0.tar.gz PackageFileSize: 2.778 MiB