Package: MeasurementError.cor Version: 1.72.0 Command: F:\biocbuild\bbs-3.17-bioc\R\bin\R.exe CMD check --no-multiarch --install=check:MeasurementError.cor.install-out.txt --library=F:\biocbuild\bbs-3.17-bioc\R\library --no-vignettes --timings MeasurementError.cor_1.72.0.tar.gz StartedAt: 2023-10-16 03:46:12 -0400 (Mon, 16 Oct 2023) EndedAt: 2023-10-16 03:46:35 -0400 (Mon, 16 Oct 2023) EllapsedTime: 22.2 seconds RetCode: 0 Status: OK CheckDir: MeasurementError.cor.Rcheck Warnings: 0