Package: MeasurementError.cor Version: 1.72.0 Command: rm -rf MeasurementError.cor.buildbin-libdir && mkdir MeasurementError.cor.buildbin-libdir && F:\biocbuild\bbs-3.17-bioc\R\bin\R.exe CMD INSTALL --build --library=MeasurementError.cor.buildbin-libdir MeasurementError.cor_1.72.0.tar.gz StartedAt: 2023-10-16 09:02:41 -0400 (Mon, 16 Oct 2023) EndedAt: 2023-10-16 09:02:46 -0400 (Mon, 16 Oct 2023) EllapsedTime: 4.6 seconds RetCode: 0 Status: OK PackageFile: MeasurementError.cor_1.72.0.zip PackageFileSize: 74.24 KiB