git_url: https://git.bioconductor.org/packages/MeasurementError.cor git_branch: RELEASE_3_17 git_last_commit: 15a97d0 git_last_commit_date: 2023-04-25 09:39:22 -0400 (Tue, 25 Apr 2023) Package: MeasurementError.cor Version: 1.72.0 Maintainer: Beiying Ding MaintainerEmail: bding at amgen.com