Package: MatrixQCvis Version: 1.8.0 Command: /Library/Frameworks/R.framework/Resources/bin/R CMD build --keep-empty-dirs --no-resave-data MatrixQCvis StartedAt: 2023-10-15 19:15:31 -0400 (Sun, 15 Oct 2023) EndedAt: 2023-10-15 19:21:32 -0400 (Sun, 15 Oct 2023) EllapsedTime: 361.2 seconds RetCode: 0 Status: OK PackageFile: MatrixQCvis_1.8.0.tar.gz PackageFileSize: 4.493 MiB