Package: MatrixGenerics Version: 1.12.3 Command: /Library/Frameworks/R.framework/Resources/bin/R CMD check --install=check:MatrixGenerics.install-out.txt --library=/Library/Frameworks/R.framework/Resources/library --no-vignettes --timings MatrixGenerics_1.12.3.tar.gz StartedAt: 2023-10-16 03:27:36 -0400 (Mon, 16 Oct 2023) EndedAt: 2023-10-16 03:28:58 -0400 (Mon, 16 Oct 2023) EllapsedTime: 81.9 seconds RetCode: 0 Status: OK CheckDir: MatrixGenerics.Rcheck Warnings: 0