Package: MassSpecWavelet Version: 1.66.0 Command: rm -rf MassSpecWavelet.buildbin-libdir && mkdir MassSpecWavelet.buildbin-libdir && F:\biocbuild\bbs-3.17-bioc\R\bin\R.exe CMD INSTALL --build --library=MassSpecWavelet.buildbin-libdir MassSpecWavelet_1.66.0.tar.gz StartedAt: 2023-10-16 09:02:01 -0400 (Mon, 16 Oct 2023) EndedAt: 2023-10-16 09:02:09 -0400 (Mon, 16 Oct 2023) EllapsedTime: 7.9 seconds RetCode: 0 Status: OK PackageFile: MassSpecWavelet_1.66.0.zip PackageFileSize: 1.169 MiB