Package: MassSpecWavelet Version: 1.66.0 Command: /Library/Frameworks/R.framework/Resources/bin/R CMD build --keep-empty-dirs --no-resave-data MassSpecWavelet StartedAt: 2023-10-15 19:15:01 -0400 (Sun, 15 Oct 2023) EndedAt: 2023-10-15 19:16:53 -0400 (Sun, 15 Oct 2023) EllapsedTime: 111.9 seconds RetCode: 0 Status: OK PackageFile: MassSpecWavelet_1.66.0.tar.gz PackageFileSize: 1.919 MiB