Package: Macarron Version: 1.4.0 Command: /home/biocbuild/bbs-3.17-bioc/R/bin/R CMD INSTALL Macarron StartedAt: 2023-10-15 15:39:12 -0400 (Sun, 15 Oct 2023) EndedAt: 2023-10-15 15:39:31 -0400 (Sun, 15 Oct 2023) EllapsedTime: 18.8 seconds RetCode: 0 Status: OK