Package: Macarron Version: 1.4.0 Command: /home/biocbuild/bbs-3.17-bioc/R/bin/R CMD check --install=check:Macarron.install-out.txt --library=/home/biocbuild/bbs-3.17-bioc/R/site-library --timings Macarron_1.4.0.tar.gz StartedAt: 2023-10-15 22:26:06 -0400 (Sun, 15 Oct 2023) EndedAt: 2023-10-15 22:31:07 -0400 (Sun, 15 Oct 2023) EllapsedTime: 300.9 seconds RetCode: 0 Status: OK CheckDir: Macarron.Rcheck Warnings: 0