Package: Macarron Version: 1.4.0 Command: /Library/Frameworks/R.framework/Resources/bin/R CMD INSTALL Macarron StartedAt: 2023-10-15 16:10:19 -0400 (Sun, 15 Oct 2023) EndedAt: 2023-10-15 16:11:22 -0400 (Sun, 15 Oct 2023) EllapsedTime: 63.0 seconds RetCode: 0 Status: OK