Package: Macarron Version: 1.4.0 Command: /Library/Frameworks/R.framework/Resources/bin/R CMD build --keep-empty-dirs --no-resave-data Macarron StartedAt: 2023-10-15 19:12:05 -0400 (Sun, 15 Oct 2023) EndedAt: 2023-10-15 19:13:53 -0400 (Sun, 15 Oct 2023) EllapsedTime: 108.2 seconds RetCode: 0 Status: OK PackageFile: Macarron_1.4.0.tar.gz PackageFileSize: 578.8 KiB