Package: Macarron Version: 1.4.0 Command: rm -rf Macarron.buildbin-libdir && mkdir Macarron.buildbin-libdir && /Users/biocbuild/BBS/utils/build-universal.sh Macarron_1.4.0.tar.gz /Library/Frameworks/R.framework/Resources/bin/R Macarron.buildbin-libdir StartedAt: 2023-10-16 09:39:00 -0400 (Mon, 16 Oct 2023) EndedAt: 2023-10-16 09:40:08 -0400 (Mon, 16 Oct 2023) EllapsedTime: 68.8 seconds RetCode: 0 Status: OK PackageFile: Macarron_1.4.0.tgz PackageFileSize: 640.3 KiB