Package: Maaslin2 Version: 1.14.1 Command: F:\biocbuild\bbs-3.17-bioc\R\bin\R.exe CMD INSTALL Maaslin2 StartedAt: 2023-10-15 16:38:13 -0400 (Sun, 15 Oct 2023) EndedAt: 2023-10-15 16:38:26 -0400 (Sun, 15 Oct 2023) EllapsedTime: 13.3 seconds RetCode: 0 Status: OK