Package: Maaslin2 Version: 1.14.1 Command: chmod a+r Maaslin2 -R && F:\biocbuild\bbs-3.17-bioc\R\bin\R.exe CMD build --keep-empty-dirs --no-resave-data Maaslin2 StartedAt: 2023-10-15 20:07:58 -0400 (Sun, 15 Oct 2023) EndedAt: 2023-10-15 20:10:05 -0400 (Sun, 15 Oct 2023) EllapsedTime: 126.7 seconds RetCode: 0 Status: OK PackageFile: Maaslin2_1.14.1.tar.gz PackageFileSize: 544 KiB