Package: Maaslin2 Version: 1.14.1 Command: rm -rf Maaslin2.buildbin-libdir && mkdir Maaslin2.buildbin-libdir && F:\biocbuild\bbs-3.17-bioc\R\bin\R.exe CMD INSTALL --build --library=Maaslin2.buildbin-libdir Maaslin2_1.14.1.tar.gz StartedAt: 2023-10-16 09:01:07 -0400 (Mon, 16 Oct 2023) EndedAt: 2023-10-16 09:01:26 -0400 (Mon, 16 Oct 2023) EllapsedTime: 18.7 seconds RetCode: 0 Status: OK PackageFile: Maaslin2_1.14.1.zip PackageFileSize: 605.2 KiB