Package: Maaslin2 Version: 1.14.1 Command: /home/biocbuild/bbs-3.17-bioc/R/bin/R CMD check --install=check:Maaslin2.install-out.txt --library=/home/biocbuild/bbs-3.17-bioc/R/site-library --timings Maaslin2_1.14.1.tar.gz StartedAt: 2023-10-15 22:25:43 -0400 (Sun, 15 Oct 2023) EndedAt: 2023-10-15 22:29:55 -0400 (Sun, 15 Oct 2023) EllapsedTime: 252.0 seconds RetCode: 0 Status: OK CheckDir: Maaslin2.Rcheck Warnings: 0