Package: MSstatsShiny Version: 1.2.5 Command: F:\biocbuild\bbs-3.17-bioc\R\bin\R.exe CMD INSTALL MSstatsShiny StartedAt: 2023-10-15 16:47:31 -0400 (Sun, 15 Oct 2023) EndedAt: 2023-10-15 16:48:07 -0400 (Sun, 15 Oct 2023) EllapsedTime: 35.6 seconds RetCode: 0 Status: OK