Package: MSstatsShiny Version: 1.2.5 Command: F:\biocbuild\bbs-3.17-bioc\R\bin\R.exe CMD check --no-multiarch --install=check:MSstatsShiny.install-out.txt --library=F:\biocbuild\bbs-3.17-bioc\R\library --no-vignettes --timings MSstatsShiny_1.2.5.tar.gz StartedAt: 2023-10-16 04:30:09 -0400 (Mon, 16 Oct 2023) EndedAt: 2023-10-16 04:33:43 -0400 (Mon, 16 Oct 2023) EllapsedTime: 214.1 seconds RetCode: 0 Status: OK CheckDir: MSstatsShiny.Rcheck Warnings: 0