Package: MSstatsShiny Version: 1.2.5 Command: chmod a+r MSstatsShiny -R && F:\biocbuild\bbs-3.17-bioc\R\bin\R.exe CMD build --keep-empty-dirs --no-resave-data MSstatsShiny StartedAt: 2023-10-15 20:43:45 -0400 (Sun, 15 Oct 2023) EndedAt: 2023-10-15 20:44:34 -0400 (Sun, 15 Oct 2023) EllapsedTime: 48.8 seconds RetCode: 0 Status: OK PackageFile: MSstatsShiny_1.2.5.tar.gz PackageFileSize: 2.158 MiB