Package: MSstatsShiny Version: 1.2.5 Command: rm -rf MSstatsShiny.buildbin-libdir && mkdir MSstatsShiny.buildbin-libdir && F:\biocbuild\bbs-3.17-bioc\R\bin\R.exe CMD INSTALL --build --library=MSstatsShiny.buildbin-libdir MSstatsShiny_1.2.5.tar.gz StartedAt: 2023-10-16 09:08:41 -0400 (Mon, 16 Oct 2023) EndedAt: 2023-10-16 09:09:13 -0400 (Mon, 16 Oct 2023) EllapsedTime: 32.1 seconds RetCode: 0 Status: OK PackageFile: MSstatsShiny_1.2.5.zip PackageFileSize: 2.285 MiB