Package: MSstatsShiny Version: 1.2.5 Command: /home/biocbuild/bbs-3.17-bioc/R/bin/R CMD INSTALL MSstatsShiny StartedAt: 2023-10-15 15:40:15 -0400 (Sun, 15 Oct 2023) EndedAt: 2023-10-15 15:40:42 -0400 (Sun, 15 Oct 2023) EllapsedTime: 26.9 seconds RetCode: 0 Status: OK