Package: MSstatsShiny Version: 1.2.5 Command: /home/biocbuild/bbs-3.17-bioc/R/bin/R CMD check --install=check:MSstatsShiny.install-out.txt --library=/home/biocbuild/bbs-3.17-bioc/R/site-library --timings MSstatsShiny_1.2.5.tar.gz StartedAt: 2023-10-15 23:08:22 -0400 (Sun, 15 Oct 2023) EndedAt: 2023-10-15 23:11:51 -0400 (Sun, 15 Oct 2023) EllapsedTime: 209.2 seconds RetCode: 0 Status: OK CheckDir: MSstatsShiny.Rcheck Warnings: 0