Package: MSstatsShiny Version: 1.2.5 Command: /home/biocbuild/bbs-3.17-bioc/R/bin/R CMD build --keep-empty-dirs --no-resave-data MSstatsShiny StartedAt: 2023-10-15 17:35:34 -0400 (Sun, 15 Oct 2023) EndedAt: 2023-10-15 17:36:11 -0400 (Sun, 15 Oct 2023) EllapsedTime: 37.1 seconds RetCode: 0 Status: OK PackageFile: MSstatsShiny_1.2.5.tar.gz PackageFileSize: 2.159 MiB