Package: MSstatsShiny Version: 1.2.5 Command: /Library/Frameworks/R.framework/Resources/bin/R CMD INSTALL MSstatsShiny StartedAt: 2023-10-15 16:12:39 -0400 (Sun, 15 Oct 2023) EndedAt: 2023-10-15 16:14:09 -0400 (Sun, 15 Oct 2023) EllapsedTime: 90.4 seconds RetCode: 0 Status: OK