Package: MSstatsShiny Version: 1.2.5 Command: /Library/Frameworks/R.framework/Resources/bin/R CMD check --install=check:MSstatsShiny.install-out.txt --library=/Library/Frameworks/R.framework/Resources/library --no-vignettes --timings MSstatsShiny_1.2.5.tar.gz StartedAt: 2023-10-16 04:24:01 -0400 (Mon, 16 Oct 2023) EndedAt: 2023-10-16 04:33:27 -0400 (Mon, 16 Oct 2023) EllapsedTime: 565.6 seconds RetCode: 0 Status: OK CheckDir: MSstatsShiny.Rcheck Warnings: 0