Package: MSstatsSampleSize Version: 1.14.1 Command: F:\biocbuild\bbs-3.17-bioc\R\bin\R.exe CMD INSTALL MSstatsSampleSize StartedAt: 2023-10-15 16:47:46 -0400 (Sun, 15 Oct 2023) EndedAt: 2023-10-15 16:48:08 -0400 (Sun, 15 Oct 2023) EllapsedTime: 21.9 seconds RetCode: 0 Status: OK