Package: MSstatsSampleSize Version: 1.14.1 Command: chmod a+r MSstatsSampleSize -R && F:\biocbuild\bbs-3.17-bioc\R\bin\R.exe CMD build --keep-empty-dirs --no-resave-data MSstatsSampleSize StartedAt: 2023-10-15 20:43:34 -0400 (Sun, 15 Oct 2023) EndedAt: 2023-10-15 20:44:04 -0400 (Sun, 15 Oct 2023) EllapsedTime: 30.8 seconds RetCode: 1 Status: ERROR PackageFile: None PackageFileSize: NA