Package: MSstatsSampleSize Version: 1.13.0 Command: /home/biocbuild/bbs-3.17-bioc/R/bin/R CMD check --install=check:MSstatsSampleSize.install-out.txt --library=/home/biocbuild/bbs-3.17-bioc/R/library --timings MSstatsSampleSize_1.13.0.tar.gz StartedAt: 2023-03-15 21:52:59 -0400 (Wed, 15 Mar 2023) EndedAt: 2023-03-15 21:55:13 -0400 (Wed, 15 Mar 2023) EllapsedTime: 133.5 seconds RetCode: 0 Status: WARNINGS CheckDir: MSstatsSampleSize.Rcheck Warnings: 2