Package: MSstatsSampleSize Version: 1.14.1 Command: /Library/Frameworks/R.framework/Resources/bin/R CMD INSTALL MSstatsSampleSize StartedAt: 2023-10-15 16:11:15 -0400 (Sun, 15 Oct 2023) EndedAt: 2023-10-15 16:12:13 -0400 (Sun, 15 Oct 2023) EllapsedTime: 58.6 seconds RetCode: 0 Status: OK