Package: MSstatsSampleSize Version: 1.13.0 Command: /Library/Frameworks/R.framework/Resources/bin/R CMD check --install=check:MSstatsSampleSize.install-out.txt --library=/Library/Frameworks/R.framework/Resources/library --no-vignettes --timings MSstatsSampleSize_1.13.0.tar.gz StartedAt: 2023-03-16 04:13:24 -0400 (Thu, 16 Mar 2023) EndedAt: 2023-03-16 04:18:52 -0400 (Thu, 16 Mar 2023) EllapsedTime: 327.5 seconds RetCode: 0 Status: WARNINGS CheckDir: MSstatsSampleSize.Rcheck Warnings: 2