Package: MSstatsQCgui Version: 1.20.0 Command: F:\biocbuild\bbs-3.17-bioc\R\bin\R.exe CMD check --no-multiarch --install=check:MSstatsQCgui.install-out.txt --library=F:\biocbuild\bbs-3.17-bioc\R\library --no-vignettes --timings MSstatsQCgui_1.20.0.tar.gz StartedAt: 2023-10-16 04:29:52 -0400 (Mon, 16 Oct 2023) EndedAt: 2023-10-16 04:31:45 -0400 (Mon, 16 Oct 2023) EllapsedTime: 113.3 seconds RetCode: 0 Status: OK CheckDir: MSstatsQCgui.Rcheck Warnings: 0