Package: MSstatsQCgui Version: 1.20.0 Command: chmod a+r MSstatsQCgui -R && F:\biocbuild\bbs-3.17-bioc\R\bin\R.exe CMD build --keep-empty-dirs --no-resave-data MSstatsQCgui StartedAt: 2023-10-15 20:43:28 -0400 (Sun, 15 Oct 2023) EndedAt: 2023-10-15 20:43:52 -0400 (Sun, 15 Oct 2023) EllapsedTime: 24.0 seconds RetCode: 0 Status: OK PackageFile: MSstatsQCgui_1.20.0.tar.gz PackageFileSize: 75.38 KiB