Package: MSstatsQCgui Version: 1.20.0 Command: rm -rf MSstatsQCgui.buildbin-libdir && mkdir MSstatsQCgui.buildbin-libdir && F:\biocbuild\bbs-3.17-bioc\R\bin\R.exe CMD INSTALL --build --library=MSstatsQCgui.buildbin-libdir MSstatsQCgui_1.20.0.tar.gz StartedAt: 2023-10-16 09:08:39 -0400 (Mon, 16 Oct 2023) EndedAt: 2023-10-16 09:09:03 -0400 (Mon, 16 Oct 2023) EllapsedTime: 23.7 seconds RetCode: 0 Status: OK PackageFile: MSstatsQCgui_1.20.0.zip PackageFileSize: 92.84 KiB