Package: MSstatsPTM Version: 2.2.4 Command: chmod a+r MSstatsPTM -R && F:\biocbuild\bbs-3.17-bioc\R\bin\R.exe CMD build --keep-empty-dirs --no-resave-data MSstatsPTM StartedAt: 2023-10-15 20:42:51 -0400 (Sun, 15 Oct 2023) EndedAt: 2023-10-15 20:44:25 -0400 (Sun, 15 Oct 2023) EllapsedTime: 93.7 seconds RetCode: 0 Status: OK PackageFile: MSstatsPTM_2.2.4.tar.gz PackageFileSize: 1.443 MiB