Package: MSstatsPTM Version: 2.2.4 Command: /home/biocbuild/bbs-3.17-bioc/R/bin/R CMD INSTALL MSstatsPTM StartedAt: 2023-10-15 15:39:32 -0400 (Sun, 15 Oct 2023) EndedAt: 2023-10-15 15:40:02 -0400 (Sun, 15 Oct 2023) EllapsedTime: 29.4 seconds RetCode: 0 Status: OK