Package: MSstatsPTM Version: 2.2.4 Command: /home/biocbuild/bbs-3.17-bioc/R/bin/R CMD check --install=check:MSstatsPTM.install-out.txt --library=/home/biocbuild/bbs-3.17-bioc/R/site-library --timings MSstatsPTM_2.2.4.tar.gz StartedAt: 2023-10-15 23:07:48 -0400 (Sun, 15 Oct 2023) EndedAt: 2023-10-15 23:11:49 -0400 (Sun, 15 Oct 2023) EllapsedTime: 240.5 seconds RetCode: 0 Status: OK CheckDir: MSstatsPTM.Rcheck Warnings: 0