Package: MSstatsLOBD Version: 1.8.0 Command: rm -rf MSstatsLOBD.buildbin-libdir && mkdir MSstatsLOBD.buildbin-libdir && F:\biocbuild\bbs-3.17-bioc\R\bin\R.exe CMD INSTALL --build --library=MSstatsLOBD.buildbin-libdir MSstatsLOBD_1.8.0.tar.gz StartedAt: 2023-10-16 09:08:30 -0400 (Mon, 16 Oct 2023) EndedAt: 2023-10-16 09:08:37 -0400 (Mon, 16 Oct 2023) EllapsedTime: 7.4 seconds RetCode: 0 Status: OK PackageFile: MSstatsLOBD_1.8.0.zip PackageFileSize: 187.2 KiB