Package: MSstatsLOBD Version: 1.8.0 Command: /Library/Frameworks/R.framework/Resources/bin/R CMD check --install=check:MSstatsLOBD.install-out.txt --library=/Library/Frameworks/R.framework/Resources/library --no-vignettes --timings MSstatsLOBD_1.8.0.tar.gz StartedAt: 2023-10-16 04:23:27 -0400 (Mon, 16 Oct 2023) EndedAt: 2023-10-16 04:24:49 -0400 (Mon, 16 Oct 2023) EllapsedTime: 81.5 seconds RetCode: 0 Status: OK CheckDir: MSstatsLOBD.Rcheck Warnings: 0