Package: MSstatsLOBD Version: 1.8.0 Command: /Library/Frameworks/R.framework/Resources/bin/R CMD build --keep-empty-dirs --no-resave-data MSstatsLOBD StartedAt: 2023-10-15 19:44:31 -0400 (Sun, 15 Oct 2023) EndedAt: 2023-10-15 19:45:25 -0400 (Sun, 15 Oct 2023) EllapsedTime: 53.5 seconds RetCode: 0 Status: OK PackageFile: MSstatsLOBD_1.8.0.tar.gz PackageFileSize: 314.9 KiB