Package: MSstatsConvert Version: 1.10.5 Command: rm -rf MSstatsConvert.buildbin-libdir && mkdir MSstatsConvert.buildbin-libdir && F:\biocbuild\bbs-3.17-bioc\R\bin\R.exe CMD INSTALL --build --library=MSstatsConvert.buildbin-libdir MSstatsConvert_1.10.5.tar.gz StartedAt: 2023-10-16 09:08:26 -0400 (Mon, 16 Oct 2023) EndedAt: 2023-10-16 09:08:39 -0400 (Mon, 16 Oct 2023) EllapsedTime: 12.7 seconds RetCode: 0 Status: OK PackageFile: MSstatsConvert_1.10.5.zip PackageFileSize: 783.7 KiB