Package: MSstatsConvert Version: 1.10.5 Command: /home/biocbuild/bbs-3.17-bioc/R/bin/R CMD build --keep-empty-dirs --no-resave-data MSstatsConvert StartedAt: 2023-10-15 17:34:52 -0400 (Sun, 15 Oct 2023) EndedAt: 2023-10-15 17:34:58 -0400 (Sun, 15 Oct 2023) EllapsedTime: 6.6 seconds RetCode: 0 Status: OK PackageFile: MSstatsConvert_1.10.5.tar.gz PackageFileSize: 543.8 KiB