Package: MSnbase Version: 2.26.0 Command: F:\biocbuild\bbs-3.17-bioc\R\bin\R.exe CMD INSTALL MSnbase StartedAt: 2023-10-15 16:12:09 -0400 (Sun, 15 Oct 2023) EndedAt: 2023-10-15 16:13:38 -0400 (Sun, 15 Oct 2023) EllapsedTime: 88.4 seconds RetCode: 0 Status: OK