Package: MSnbase Version: 2.26.0 Command: F:\biocbuild\bbs-3.17-bioc\R\bin\R.exe CMD check --no-multiarch --install=check:MSnbase.install-out.txt --library=F:\biocbuild\bbs-3.17-bioc\R\library --no-vignettes --timings MSnbase_2.26.0.tar.gz StartedAt: 2023-10-16 04:27:34 -0400 (Mon, 16 Oct 2023) EndedAt: 2023-10-16 04:44:30 -0400 (Mon, 16 Oct 2023) EllapsedTime: 1015.6 seconds RetCode: 1 Status: ERROR CheckDir: MSnbase.Rcheck Warnings: NA