Package: MSnbase Version: 2.26.0 Command: chmod a+r MSnbase -R && F:\biocbuild\bbs-3.17-bioc\R\bin\R.exe CMD build --keep-empty-dirs --no-resave-data MSnbase StartedAt: 2023-10-15 20:41:10 -0400 (Sun, 15 Oct 2023) EndedAt: 2023-10-15 20:45:40 -0400 (Sun, 15 Oct 2023) EllapsedTime: 270.0 seconds RetCode: 0 Status: OK PackageFile: MSnbase_2.26.0.tar.gz PackageFileSize: 3.996 MiB