Package: MSnbase Version: 2.26.0 Command: /home/biocbuild/bbs-3.17-bioc/R/bin/R CMD check --install=check:MSnbase.install-out.txt --library=/home/biocbuild/bbs-3.17-bioc/R/site-library --timings MSnbase_2.26.0.tar.gz StartedAt: 2023-10-15 23:06:11 -0400 (Sun, 15 Oct 2023) EndedAt: 2023-10-15 23:19:55 -0400 (Sun, 15 Oct 2023) EllapsedTime: 824.0 seconds RetCode: 1 Status: ERROR CheckDir: MSnbase.Rcheck Warnings: NA