Package: MSnbase Version: 2.26.0 Command: /home/biocbuild/bbs-3.17-bioc/R/bin/R CMD build --keep-empty-dirs --no-resave-data MSnbase StartedAt: 2023-10-15 17:34:16 -0400 (Sun, 15 Oct 2023) EndedAt: 2023-10-15 17:36:49 -0400 (Sun, 15 Oct 2023) EllapsedTime: 153.8 seconds RetCode: 0 Status: OK PackageFile: MSnbase_2.26.0.tar.gz PackageFileSize: 5.669 MiB