Package: MSnbase Version: 2.26.0 Command: /Library/Frameworks/R.framework/Resources/bin/R CMD check --install=check:MSnbase.install-out.txt --library=/Library/Frameworks/R.framework/Resources/library --no-vignettes --timings MSnbase_2.26.0.tar.gz StartedAt: 2023-10-16 04:21:17 -0400 (Mon, 16 Oct 2023) EndedAt: 2023-10-16 04:52:14 -0400 (Mon, 16 Oct 2023) EllapsedTime: 1857.3 seconds RetCode: 1 Status: ERROR CheckDir: MSnbase.Rcheck Warnings: NA