Package: MSnbase Version: 2.26.0 Command: /Library/Frameworks/R.framework/Resources/bin/R CMD build --keep-empty-dirs --no-resave-data MSnbase StartedAt: 2023-10-15 19:43:05 -0400 (Sun, 15 Oct 2023) EndedAt: 2023-10-15 19:50:14 -0400 (Sun, 15 Oct 2023) EllapsedTime: 429.6 seconds RetCode: 0 Status: OK PackageFile: MSnbase_2.26.0.tar.gz PackageFileSize: 5.8 MiB