Package: MSnID Version: 1.34.0 Command: /Library/Frameworks/R.framework/Resources/bin/R CMD INSTALL MSnID StartedAt: 2023-10-15 16:29:47 -0400 (Sun, 15 Oct 2023) EndedAt: 2023-10-15 16:31:17 -0400 (Sun, 15 Oct 2023) EllapsedTime: 90.4 seconds RetCode: 0 Status: OK